BEGIN:VCALENDAR
VERSION:2.0
PRODID:-//Calvary Episcopal Church - ECPv6.15.20//NONSGML v1.0//EN
CALSCALE:GREGORIAN
METHOD:PUBLISH
X-ORIGINAL-URL:https://calvaryashland.org
X-WR-CALDESC:Events for Calvary Episcopal Church
REFRESH-INTERVAL;VALUE=DURATION:PT1H
X-Robots-Tag:noindex
X-PUBLISHED-TTL:PT1H
BEGIN:VTIMEZONE
TZID:America/New_York
BEGIN:DAYLIGHT
TZOFFSETFROM:-0500
TZOFFSETTO:-0400
TZNAME:EDT
DTSTART:20230312T070000
END:DAYLIGHT
BEGIN:STANDARD
TZOFFSETFROM:-0400
TZOFFSETTO:-0500
TZNAME:EST
DTSTART:20231105T060000
END:STANDARD
BEGIN:DAYLIGHT
TZOFFSETFROM:-0500
TZOFFSETTO:-0400
TZNAME:EDT
DTSTART:20240310T070000
END:DAYLIGHT
BEGIN:STANDARD
TZOFFSETFROM:-0400
TZOFFSETTO:-0500
TZNAME:EST
DTSTART:20241103T060000
END:STANDARD
BEGIN:DAYLIGHT
TZOFFSETFROM:-0500
TZOFFSETTO:-0400
TZNAME:EDT
DTSTART:20250309T070000
END:DAYLIGHT
BEGIN:STANDARD
TZOFFSETFROM:-0400
TZOFFSETTO:-0500
TZNAME:EST
DTSTART:20251102T060000
END:STANDARD
END:VTIMEZONE
BEGIN:VEVENT
DTSTART;TZID=America/New_York:20240319T180000
DTEND;TZID=America/New_York:20240319T190000
DTSTAMP:20260424T013619
CREATED:20240222T125347Z
LAST-MODIFIED:20240319T093852Z
UID:10002376-1710871200-1710874800@calvaryashland.org
SUMMARY:Table Talk Christian Minimalism
DESCRIPTION:
URL:https://calvaryashland.org/event/table-talk-christian-minimalism-4/
LOCATION:Calvary Episcopal Church\, 1337 Winchester Ave\, Ashland\, KY 41101\, USA
CATEGORIES:Church Events
END:VEVENT
BEGIN:VEVENT
DTSTART;TZID=America/New_York:20240312T180000
DTEND;TZID=America/New_York:20240312T190000
DTSTAMP:20260424T013619
CREATED:20240222T125346Z
LAST-MODIFIED:20240311T133853Z
UID:10002375-1710266400-1710270000@calvaryashland.org
SUMMARY:Table Talk Christian Minimalism
DESCRIPTION:
URL:https://calvaryashland.org/event/table-talk-christian-minimalism-3/
LOCATION:Calvary Episcopal Church\, 1337 Winchester Ave\, Ashland\, KY 41101\, USA
CATEGORIES:Church Events
END:VEVENT
BEGIN:VEVENT
DTSTART;TZID=America/New_York:20240305T180000
DTEND;TZID=America/New_York:20240305T190000
DTSTAMP:20260424T013619
CREATED:20240222T125345Z
LAST-MODIFIED:20240305T132346Z
UID:10002373-1709661600-1709665200@calvaryashland.org
SUMMARY:Table Talk Christian Minimalism
DESCRIPTION:
URL:https://calvaryashland.org/event/table-talk-christian-minimalism-2/
LOCATION:Calvary Episcopal Church\, 1337 Winchester Ave\, Ashland\, KY 41101\, USA
CATEGORIES:Church Events
END:VEVENT
BEGIN:VEVENT
DTSTART;TZID=America/New_York:20240227T180000
DTEND;TZID=America/New_York:20240227T190000
DTSTAMP:20260424T013619
CREATED:20240222T125344Z
LAST-MODIFIED:20240227T130847Z
UID:10002372-1709056800-1709060400@calvaryashland.org
SUMMARY:Table Talk Christian Minimalism
DESCRIPTION:
URL:https://calvaryashland.org/event/table-talk-christian-minimalism/
LOCATION:Calvary Episcopal Church\, 1337 Winchester Ave\, Ashland\, KY 41101\, USA
CATEGORIES:Church Events
END:VEVENT
BEGIN:VEVENT
DTSTART;TZID=America/New_York:20240225T111500
DTEND;TZID=America/New_York:20240225T131500
DTSTAMP:20260424T013619
CREATED:20240131T120931Z
LAST-MODIFIED:20240225T125335Z
UID:10002269-1708859700-1708866900@calvaryashland.org
SUMMARY:Reception honoring Dr. Carol Greene
DESCRIPTION:
URL:https://calvaryashland.org/event/coffee-hour-4/
LOCATION:Calvary Episcopal Church\, 1337 Winchester Ave\, Ashland\, KY 41101\, USA
CATEGORIES:Church Events
END:VEVENT
END:VCALENDAR