BEGIN:VCALENDAR
VERSION:2.0
PRODID:-//Calvary Episcopal Church - ECPv6.15.20//NONSGML v1.0//EN
CALSCALE:GREGORIAN
METHOD:PUBLISH
X-ORIGINAL-URL:https://calvaryashland.org
X-WR-CALDESC:Events for Calvary Episcopal Church
REFRESH-INTERVAL;VALUE=DURATION:PT1H
X-Robots-Tag:noindex
X-PUBLISHED-TTL:PT1H
BEGIN:VTIMEZONE
TZID:America/New_York
BEGIN:DAYLIGHT
TZOFFSETFROM:-0500
TZOFFSETTO:-0400
TZNAME:EDT
DTSTART:20250309T070000
END:DAYLIGHT
BEGIN:STANDARD
TZOFFSETFROM:-0400
TZOFFSETTO:-0500
TZNAME:EST
DTSTART:20251102T060000
END:STANDARD
BEGIN:DAYLIGHT
TZOFFSETFROM:-0500
TZOFFSETTO:-0400
TZNAME:EDT
DTSTART:20260308T070000
END:DAYLIGHT
BEGIN:STANDARD
TZOFFSETFROM:-0400
TZOFFSETTO:-0500
TZNAME:EST
DTSTART:20261101T060000
END:STANDARD
BEGIN:DAYLIGHT
TZOFFSETFROM:-0500
TZOFFSETTO:-0400
TZNAME:EDT
DTSTART:20270314T070000
END:DAYLIGHT
BEGIN:STANDARD
TZOFFSETFROM:-0400
TZOFFSETTO:-0500
TZNAME:EST
DTSTART:20271107T060000
END:STANDARD
END:VTIMEZONE
BEGIN:VEVENT
DTSTART;TZID=America/New_York:20260715T190000
DTEND;TZID=America/New_York:20260715T200000
DTSTAMP:20260421T152513
CREATED:20260417T160746Z
LAST-MODIFIED:20260421T160714Z
UID:10004578-1784142000-1784145600@calvaryashland.org
SUMMARY:Choir Practice
DESCRIPTION:
URL:https://calvaryashland.org/event/choir-practice-149/
CATEGORIES:Church Events
END:VEVENT
BEGIN:VEVENT
DTSTART;TZID=America/New_York:20260716T120000
DTEND;TZID=America/New_York:20260716T130000
DTSTAMP:20260421T152513
CREATED:20260417T160748Z
LAST-MODIFIED:20260421T160714Z
UID:10004579-1784203200-1784206800@calvaryashland.org
SUMMARY:AA Meeting
DESCRIPTION:
URL:https://calvaryashland.org/event/aa-meeting-1464/
LOCATION:1337 Winchester Ave\, Ashland\, KY\, United States
CATEGORIES:Church Events
GEO:38.473824;-82.647933
END:VEVENT
BEGIN:VEVENT
DTSTART;VALUE=DATE:20260717
DTEND;VALUE=DATE:20260718
DTSTAMP:20260421T152513
CREATED:20260418T160638Z
LAST-MODIFIED:20260421T160721Z
UID:10004581-1784246400-1784332799@calvaryashland.org
SUMMARY:Office Closed
DESCRIPTION:
URL:https://calvaryashland.org/event/office-closed-114/
CATEGORIES:Church Events
END:VEVENT
BEGIN:VEVENT
DTSTART;TZID=America/New_York:20260717T120000
DTEND;TZID=America/New_York:20260717T130000
DTSTAMP:20260421T152513
CREATED:20260418T160635Z
LAST-MODIFIED:20260421T160715Z
UID:10004580-1784289600-1784293200@calvaryashland.org
SUMMARY:AA Meeting
DESCRIPTION:
URL:https://calvaryashland.org/event/aa-meeting-1465/
LOCATION:1337 Winchester Ave\, Ashland\, KY\, United States
CATEGORIES:Church Events
GEO:38.473824;-82.647933
END:VEVENT
BEGIN:VEVENT
DTSTART;TZID=America/New_York:20260718T120000
DTEND;TZID=America/New_York:20260718T140000
DTSTAMP:20260421T152513
CREATED:20260419T160837Z
LAST-MODIFIED:20260421T160721Z
UID:10004582-1784376000-1784383200@calvaryashland.org
SUMMARY:Holy Locker Room
DESCRIPTION:
URL:https://calvaryashland.org/event/holy-locker-room-18/
CATEGORIES:Church Events
END:VEVENT
BEGIN:VEVENT
DTSTART;TZID=America/New_York:20260719T090000
DTEND;TZID=America/New_York:20260719T100000
DTSTAMP:20260421T152513
CREATED:20260420T160733Z
LAST-MODIFIED:20260421T160722Z
UID:10004584-1784451600-1784455200@calvaryashland.org
SUMMARY:Adult Bible Study
DESCRIPTION:
URL:https://calvaryashland.org/event/adult-bible-study-96/
CATEGORIES:Church Events
END:VEVENT
BEGIN:VEVENT
DTSTART;TZID=America/New_York:20260719T100000
DTEND;TZID=America/New_York:20260719T110000
DTSTAMP:20260421T152513
CREATED:20260420T160727Z
LAST-MODIFIED:20260421T160722Z
UID:10004583-1784455200-1784458800@calvaryashland.org
SUMMARY:Holy Eucharist
DESCRIPTION:
URL:https://calvaryashland.org/event/holy-eucharist-131/
CATEGORIES:Church Events
END:VEVENT
BEGIN:VEVENT
DTSTART;TZID=America/New_York:20260719T111500
DTEND;TZID=America/New_York:20260719T121500
DTSTAMP:20260421T152513
CREATED:20260420T160734Z
LAST-MODIFIED:20260421T160722Z
UID:10004585-1784459700-1784463300@calvaryashland.org
SUMMARY:Coffee Hour
DESCRIPTION:
URL:https://calvaryashland.org/event/coffee-hour-67/
CATEGORIES:Church Events
END:VEVENT
BEGIN:VEVENT
DTSTART;TZID=America/New_York:20260719T113000
DTEND;TZID=America/New_York:20260719T123000
DTSTAMP:20260421T152513
CREATED:20260420T160734Z
LAST-MODIFIED:20260421T160729Z
UID:10004586-1784460600-1784464200@calvaryashland.org
SUMMARY:Vestry Meeting
DESCRIPTION:
URL:https://calvaryashland.org/event/vestry-meeting-32/
CATEGORIES:Church Events
END:VEVENT
BEGIN:VEVENT
DTSTART;TZID=America/New_York:20260720T120000
DTEND;TZID=America/New_York:20260720T130000
DTSTAMP:20260421T152513
CREATED:20260421T160729Z
LAST-MODIFIED:20260421T160729Z
UID:10004587-1784548800-1784552400@calvaryashland.org
SUMMARY:AA Meeting
DESCRIPTION:
URL:https://calvaryashland.org/event/aa-meeting-1466/
LOCATION:1337 Winchester Ave\, Ashland\, KY\, United States
CATEGORIES:Church Events
GEO:38.473824;-82.647933
END:VEVENT
BEGIN:VEVENT
DTSTART;TZID=America/New_York:20260720T180000
DTEND;TZID=America/New_York:20260720T200000
DTSTAMP:20260421T152513
CREATED:20260421T160731Z
LAST-MODIFIED:20260421T160731Z
UID:10004588-1784570400-1784577600@calvaryashland.org
SUMMARY:Holy Hookers Crochet Class
DESCRIPTION:
URL:https://calvaryashland.org/event/holy-hookers-crochet-class-75/
CATEGORIES:Church Events
END:VEVENT
END:VCALENDAR