BEGIN:VCALENDAR
VERSION:2.0
PRODID:-//Calvary Episcopal Church - ECPv6.15.20//NONSGML v1.0//EN
CALSCALE:GREGORIAN
METHOD:PUBLISH
X-ORIGINAL-URL:https://calvaryashland.org
X-WR-CALDESC:Events for Calvary Episcopal Church
REFRESH-INTERVAL;VALUE=DURATION:PT1H
X-Robots-Tag:noindex
X-PUBLISHED-TTL:PT1H
BEGIN:VTIMEZONE
TZID:America/New_York
BEGIN:DAYLIGHT
TZOFFSETFROM:-0500
TZOFFSETTO:-0400
TZNAME:EDT
DTSTART:20230312T070000
END:DAYLIGHT
BEGIN:STANDARD
TZOFFSETFROM:-0400
TZOFFSETTO:-0500
TZNAME:EST
DTSTART:20231105T060000
END:STANDARD
BEGIN:DAYLIGHT
TZOFFSETFROM:-0500
TZOFFSETTO:-0400
TZNAME:EDT
DTSTART:20240310T070000
END:DAYLIGHT
BEGIN:STANDARD
TZOFFSETFROM:-0400
TZOFFSETTO:-0500
TZNAME:EST
DTSTART:20241103T060000
END:STANDARD
BEGIN:DAYLIGHT
TZOFFSETFROM:-0500
TZOFFSETTO:-0400
TZNAME:EDT
DTSTART:20250309T070000
END:DAYLIGHT
BEGIN:STANDARD
TZOFFSETFROM:-0400
TZOFFSETTO:-0500
TZNAME:EST
DTSTART:20251102T060000
END:STANDARD
END:VTIMEZONE
BEGIN:VEVENT
DTSTART;TZID=America/New_York:20241124T090000
DTEND;TZID=America/New_York:20241124T094500
DTSTAMP:20260420T155034
CREATED:20240826T195651Z
LAST-MODIFIED:20241123T222340Z
UID:10002819-1732438800-1732441500@calvaryashland.org
SUMMARY:Rector's Forum with Father Jon
DESCRIPTION:
URL:https://calvaryashland.org/event/rectors-forum-with-father-jon-27/
CATEGORIES:Church Events
END:VEVENT
BEGIN:VEVENT
DTSTART;TZID=America/New_York:20241124T090000
DTEND;TZID=America/New_York:20241124T100000
DTSTAMP:20260420T155034
CREATED:20240925T204129Z
LAST-MODIFIED:20241123T222340Z
UID:10002910-1732438800-1732442400@calvaryashland.org
SUMMARY:Adult Bible Study
DESCRIPTION:
URL:https://calvaryashland.org/event/adult-bible-study-9/
CATEGORIES:Church Events
END:VEVENT
BEGIN:VEVENT
DTSTART;TZID=America/New_York:20241124T100000
DTEND;TZID=America/New_York:20241124T110000
DTSTAMP:20260420T155034
CREATED:20240826T195651Z
LAST-MODIFIED:20241123T222340Z
UID:10002820-1732442400-1732446000@calvaryashland.org
SUMMARY:Holy Eucharist
DESCRIPTION:
URL:https://calvaryashland.org/event/holy-eucharist-45/
CATEGORIES:Church Events
END:VEVENT
BEGIN:VEVENT
DTSTART;TZID=America/New_York:20241124T113000
DTEND;TZID=America/New_York:20241124T123000
DTSTAMP:20260420T155034
CREATED:20240925T204129Z
LAST-MODIFIED:20241123T222340Z
UID:10002911-1732447800-1732451400@calvaryashland.org
SUMMARY:Youth Impact Group
DESCRIPTION:
URL:https://calvaryashland.org/event/youth-impact-group-8/
CATEGORIES:Church Events
END:VEVENT
BEGIN:VEVENT
DTSTART;TZID=America/New_York:20241124T120000
DTEND;TZID=America/New_York:20241124T130000
DTSTAMP:20260420T155034
CREATED:20240925T204129Z
LAST-MODIFIED:20241123T222340Z
UID:10002912-1732449600-1732453200@calvaryashland.org
SUMMARY:Adult Confirmation Class
DESCRIPTION:
URL:https://calvaryashland.org/event/adult-confirmation-class-8/
CATEGORIES:Church Events
END:VEVENT
END:VCALENDAR