BEGIN:VCALENDAR
VERSION:2.0
PRODID:-//Calvary Episcopal Church - ECPv6.15.20//NONSGML v1.0//EN
CALSCALE:GREGORIAN
METHOD:PUBLISH
X-WR-CALNAME:Calvary Episcopal Church
X-ORIGINAL-URL:https://calvaryashland.org
X-WR-CALDESC:Events for Calvary Episcopal Church
REFRESH-INTERVAL;VALUE=DURATION:PT1H
X-Robots-Tag:noindex
X-PUBLISHED-TTL:PT1H
BEGIN:VTIMEZONE
TZID:America/New_York
BEGIN:DAYLIGHT
TZOFFSETFROM:-0500
TZOFFSETTO:-0400
TZNAME:EDT
DTSTART:20230312T070000
END:DAYLIGHT
BEGIN:STANDARD
TZOFFSETFROM:-0400
TZOFFSETTO:-0500
TZNAME:EST
DTSTART:20231105T060000
END:STANDARD
BEGIN:DAYLIGHT
TZOFFSETFROM:-0500
TZOFFSETTO:-0400
TZNAME:EDT
DTSTART:20240310T070000
END:DAYLIGHT
BEGIN:STANDARD
TZOFFSETFROM:-0400
TZOFFSETTO:-0500
TZNAME:EST
DTSTART:20241103T060000
END:STANDARD
BEGIN:DAYLIGHT
TZOFFSETFROM:-0500
TZOFFSETTO:-0400
TZNAME:EDT
DTSTART:20250309T070000
END:DAYLIGHT
BEGIN:STANDARD
TZOFFSETFROM:-0400
TZOFFSETTO:-0500
TZNAME:EST
DTSTART:20251102T060000
END:STANDARD
END:VTIMEZONE
BEGIN:VEVENT
DTSTART;TZID=America/New_York:20240721T080000
DTEND;TZID=America/New_York:20240721T090000
DTSTAMP:20260420T071544
CREATED:20240422T112515Z
LAST-MODIFIED:20240522T131106Z
UID:10002558-1721548800-1721552400@calvaryashland.org
SUMMARY:Rite 1 Service
DESCRIPTION:
URL:https://calvaryashland.org/event/rite-1-service-23/
CATEGORIES:Church Events
END:VEVENT
BEGIN:VEVENT
DTSTART;TZID=America/New_York:20240721T090000
DTEND;TZID=America/New_York:20240721T094500
DTSTAMP:20260420T071544
CREATED:20240523T132405Z
LAST-MODIFIED:20240720T183835Z
UID:10002641-1721552400-1721555100@calvaryashland.org
SUMMARY:Rector's Forum with Father Jon
DESCRIPTION:
URL:https://calvaryashland.org/event/rectors-forum-with-father-jon-9/
CATEGORIES:Church Events
END:VEVENT
BEGIN:VEVENT
DTSTART;TZID=America/New_York:20240721T090000
DTEND;TZID=America/New_York:20240721T100000
DTSTAMP:20260420T071544
CREATED:20240422T112515Z
LAST-MODIFIED:20240720T183835Z
UID:10002557-1721552400-1721556000@calvaryashland.org
SUMMARY:Bible Study with Liz Alexander
DESCRIPTION:
URL:https://calvaryashland.org/event/bible-study-with-liz-alexander-78/
CATEGORIES:Church Events
END:VEVENT
BEGIN:VEVENT
DTSTART;TZID=America/New_York:20240721T100000
DTEND;TZID=America/New_York:20240721T110000
DTSTAMP:20260420T071544
CREATED:20240422T112515Z
LAST-MODIFIED:20240720T183835Z
UID:10002560-1721556000-1721559600@calvaryashland.org
SUMMARY:Holy Eucharist
DESCRIPTION:
URL:https://calvaryashland.org/event/holy-eucharist-25/
CATEGORIES:Church Events
END:VEVENT
BEGIN:VEVENT
DTSTART;TZID=America/New_York:20240721T111500
DTEND;TZID=America/New_York:20240721T121500
DTSTAMP:20260420T071544
CREATED:20240422T112515Z
LAST-MODIFIED:20240720T183835Z
UID:10002561-1721560500-1721564100@calvaryashland.org
SUMMARY:Birthday Potluck
DESCRIPTION:
URL:https://calvaryashland.org/event/birthday-potluck-14/
CATEGORIES:Church Events
END:VEVENT
BEGIN:VEVENT
DTSTART;TZID=America/New_York:20240721T111500
DTEND;TZID=America/New_York:20240721T121500
DTSTAMP:20260420T071544
CREATED:20240422T112515Z
LAST-MODIFIED:20240523T132405Z
UID:10002562-1721560500-1721564100@calvaryashland.org
SUMMARY:Coffee Hour
DESCRIPTION:
URL:https://calvaryashland.org/event/coffee-hour-25/
CATEGORIES:Church Events
END:VEVENT
END:VCALENDAR