BEGIN:VCALENDAR
VERSION:2.0
PRODID:-//Calvary Episcopal Church - ECPv6.15.20//NONSGML v1.0//EN
CALSCALE:GREGORIAN
METHOD:PUBLISH
X-WR-CALNAME:Calvary Episcopal Church
X-ORIGINAL-URL:https://calvaryashland.org
X-WR-CALDESC:Events for Calvary Episcopal Church
REFRESH-INTERVAL;VALUE=DURATION:PT1H
X-Robots-Tag:noindex
X-PUBLISHED-TTL:PT1H
BEGIN:VTIMEZONE
TZID:America/New_York
BEGIN:DAYLIGHT
TZOFFSETFROM:-0500
TZOFFSETTO:-0400
TZNAME:EDT
DTSTART:20230312T070000
END:DAYLIGHT
BEGIN:STANDARD
TZOFFSETFROM:-0400
TZOFFSETTO:-0500
TZNAME:EST
DTSTART:20231105T060000
END:STANDARD
BEGIN:DAYLIGHT
TZOFFSETFROM:-0500
TZOFFSETTO:-0400
TZNAME:EDT
DTSTART:20240310T070000
END:DAYLIGHT
BEGIN:STANDARD
TZOFFSETFROM:-0400
TZOFFSETTO:-0500
TZNAME:EST
DTSTART:20241103T060000
END:STANDARD
BEGIN:DAYLIGHT
TZOFFSETFROM:-0500
TZOFFSETTO:-0400
TZNAME:EDT
DTSTART:20250309T070000
END:DAYLIGHT
BEGIN:STANDARD
TZOFFSETFROM:-0400
TZOFFSETTO:-0500
TZNAME:EST
DTSTART:20251102T060000
END:STANDARD
END:VTIMEZONE
BEGIN:VEVENT
DTSTART;TZID=America/New_York:20240711T120000
DTEND;TZID=America/New_York:20240711T130000
DTSTAMP:20260420T224245
CREATED:20240412T105355Z
LAST-MODIFIED:20240710T182340Z
UID:10002539-1720699200-1720702800@calvaryashland.org
SUMMARY:AA Meeting
DESCRIPTION:
URL:https://calvaryashland.org/event/aa-meeting-490/
LOCATION:1337 Winchester Ave\, Ashland\, KY\, United States
CATEGORIES:Church Events
GEO:38.473824;-82.647933
END:VEVENT
BEGIN:VEVENT
DTSTART;TZID=America/New_York:20240711T180000
DTEND;TZID=America/New_York:20240711T190000
DTSTAMP:20260420T224245
CREATED:20240412T105355Z
LAST-MODIFIED:20240711T182338Z
UID:10002540-1720720800-1720724400@calvaryashland.org
SUMMARY:AA meeting
DESCRIPTION:
URL:https://calvaryashland.org/event/aa-meeting-491/
LOCATION:1337 Winchester Ave\, Ashland\, KY\, United States
CATEGORIES:Church Events
GEO:38.473824;-82.647933
END:VEVENT
END:VCALENDAR