BEGIN:VCALENDAR
VERSION:2.0
PRODID:-//Calvary Episcopal Church - ECPv6.15.20//NONSGML v1.0//EN
CALSCALE:GREGORIAN
METHOD:PUBLISH
X-WR-CALNAME:Calvary Episcopal Church
X-ORIGINAL-URL:https://calvaryashland.org
X-WR-CALDESC:Events for Calvary Episcopal Church
REFRESH-INTERVAL;VALUE=DURATION:PT1H
X-Robots-Tag:noindex
X-PUBLISHED-TTL:PT1H
BEGIN:VTIMEZONE
TZID:America/New_York
BEGIN:DAYLIGHT
TZOFFSETFROM:-0500
TZOFFSETTO:-0400
TZNAME:EDT
DTSTART:20230312T070000
END:DAYLIGHT
BEGIN:STANDARD
TZOFFSETFROM:-0400
TZOFFSETTO:-0500
TZNAME:EST
DTSTART:20231105T060000
END:STANDARD
BEGIN:DAYLIGHT
TZOFFSETFROM:-0500
TZOFFSETTO:-0400
TZNAME:EDT
DTSTART:20240310T070000
END:DAYLIGHT
BEGIN:STANDARD
TZOFFSETFROM:-0400
TZOFFSETTO:-0500
TZNAME:EST
DTSTART:20241103T060000
END:STANDARD
BEGIN:DAYLIGHT
TZOFFSETFROM:-0500
TZOFFSETTO:-0400
TZNAME:EDT
DTSTART:20250309T070000
END:DAYLIGHT
BEGIN:STANDARD
TZOFFSETFROM:-0400
TZOFFSETTO:-0500
TZNAME:EST
DTSTART:20251102T060000
END:STANDARD
END:VTIMEZONE
BEGIN:VEVENT
DTSTART;TZID=America/New_York:20240710T120000
DTEND;TZID=America/New_York:20240710T130000
DTSTAMP:20260421T000529
CREATED:20240411T103854Z
LAST-MODIFIED:20240709T182337Z
UID:10002536-1720612800-1720616400@calvaryashland.org
SUMMARY:AA Meeting
DESCRIPTION:
URL:https://calvaryashland.org/event/aa-meeting-489/
LOCATION:1337 Winchester Ave\, Ashland\, KY\, United States
CATEGORIES:Church Events
GEO:38.473824;-82.647933
END:VEVENT
BEGIN:VEVENT
DTSTART;TZID=America/New_York:20240710T160000
DTEND;TZID=America/New_York:20240710T170000
DTSTAMP:20260421T000529
CREATED:20240411T103854Z
LAST-MODIFIED:20240522T131105Z
UID:10002537-1720627200-1720630800@calvaryashland.org
SUMMARY:Bags of Love
DESCRIPTION:
URL:https://calvaryashland.org/event/bags-of-love-57/
CATEGORIES:Church Events
END:VEVENT
BEGIN:VEVENT
DTSTART;TZID=America/New_York:20240710T190000
DTEND;TZID=America/New_York:20240710T200000
DTSTAMP:20260421T000529
CREATED:20240411T103855Z
LAST-MODIFIED:20240710T182340Z
UID:10002538-1720638000-1720641600@calvaryashland.org
SUMMARY:Choir Practice
DESCRIPTION:
URL:https://calvaryashland.org/event/choir-practice-44/
CATEGORIES:Church Events
END:VEVENT
END:VCALENDAR