BEGIN:VCALENDAR
VERSION:2.0
PRODID:-//Calvary Episcopal Church - ECPv6.15.20//NONSGML v1.0//EN
CALSCALE:GREGORIAN
METHOD:PUBLISH
X-ORIGINAL-URL:https://calvaryashland.org
X-WR-CALDESC:Events for Calvary Episcopal Church
REFRESH-INTERVAL;VALUE=DURATION:PT1H
X-Robots-Tag:noindex
X-PUBLISHED-TTL:PT1H
BEGIN:VTIMEZONE
TZID:America/New_York
BEGIN:DAYLIGHT
TZOFFSETFROM:-0500
TZOFFSETTO:-0400
TZNAME:EDT
DTSTART:20230312T070000
END:DAYLIGHT
BEGIN:STANDARD
TZOFFSETFROM:-0400
TZOFFSETTO:-0500
TZNAME:EST
DTSTART:20231105T060000
END:STANDARD
BEGIN:DAYLIGHT
TZOFFSETFROM:-0500
TZOFFSETTO:-0400
TZNAME:EDT
DTSTART:20240310T070000
END:DAYLIGHT
BEGIN:STANDARD
TZOFFSETFROM:-0400
TZOFFSETTO:-0500
TZNAME:EST
DTSTART:20241103T060000
END:STANDARD
BEGIN:DAYLIGHT
TZOFFSETFROM:-0500
TZOFFSETTO:-0400
TZNAME:EDT
DTSTART:20250309T070000
END:DAYLIGHT
BEGIN:STANDARD
TZOFFSETFROM:-0400
TZOFFSETTO:-0500
TZNAME:EST
DTSTART:20251102T060000
END:STANDARD
END:VTIMEZONE
BEGIN:VEVENT
DTSTART;TZID=America/New_York:20240623T080000
DTEND;TZID=America/New_York:20240623T090000
DTSTAMP:20260424T032027
CREATED:20240325T093854Z
LAST-MODIFIED:20240522T131102Z
UID:10002475-1719129600-1719133200@calvaryashland.org
SUMMARY:Rite 1 Service
DESCRIPTION:
URL:https://calvaryashland.org/event/rite-1-service-19/
CATEGORIES:Church Events
END:VEVENT
BEGIN:VEVENT
DTSTART;TZID=America/New_York:20240623T090000
DTEND;TZID=America/New_York:20240623T094500
DTSTAMP:20260424T032027
CREATED:20240523T132401Z
LAST-MODIFIED:20240622T170838Z
UID:10002637-1719133200-1719135900@calvaryashland.org
SUMMARY:Rector's Forum with Father Jon
DESCRIPTION:
URL:https://calvaryashland.org/event/rectors-forum-with-father-jon-5/
CATEGORIES:Church Events
END:VEVENT
BEGIN:VEVENT
DTSTART;TZID=America/New_York:20240623T090000
DTEND;TZID=America/New_York:20240623T100000
DTSTAMP:20260424T032027
CREATED:20240411T103851Z
LAST-MODIFIED:20240622T170838Z
UID:10002530-1719133200-1719136800@calvaryashland.org
SUMMARY:Bible Study with Liz Alexander
DESCRIPTION:
URL:https://calvaryashland.org/event/bible-study-with-liz-alexander-74/
CATEGORIES:Church Events
END:VEVENT
BEGIN:VEVENT
DTSTART;TZID=America/New_York:20240623T100000
DTEND;TZID=America/New_York:20240623T110000
DTSTAMP:20260424T032027
CREATED:20240325T093854Z
LAST-MODIFIED:20240523T132401Z
UID:10002477-1719136800-1719140400@calvaryashland.org
SUMMARY:Holy Eucharist
DESCRIPTION:
URL:https://calvaryashland.org/event/holy-eucharist-14/
CATEGORIES:Church Events
END:VEVENT
BEGIN:VEVENT
DTSTART;TZID=America/New_York:20240623T100000
DTEND;TZID=America/New_York:20240623T110000
DTSTAMP:20260424T032027
CREATED:20240411T103851Z
LAST-MODIFIED:20240523T132401Z
UID:10002529-1719136800-1719140400@calvaryashland.org
SUMMARY:Holy Eucharist
DESCRIPTION:
URL:https://calvaryashland.org/event/holy-eucharist-21/
CATEGORIES:Church Events
END:VEVENT
BEGIN:VEVENT
DTSTART;TZID=America/New_York:20240623T100000
DTEND;TZID=America/New_York:20240623T110000
DTSTAMP:20260424T032027
CREATED:20240524T132352Z
LAST-MODIFIED:20240622T170838Z
UID:10002650-1719136800-1719140400@calvaryashland.org
SUMMARY:Holy Eucharist
DESCRIPTION:
URL:https://calvaryashland.org/event/holy-eucharist-31/
CATEGORIES:Church Events
END:VEVENT
BEGIN:VEVENT
DTSTART;TZID=America/New_York:20240623T111500
DTEND;TZID=America/New_York:20240623T121500
DTSTAMP:20260424T032027
CREATED:20240325T093854Z
LAST-MODIFIED:20240523T132401Z
UID:10002478-1719141300-1719144900@calvaryashland.org
SUMMARY:Coffee Hour
DESCRIPTION:
URL:https://calvaryashland.org/event/coffee-hour-21/
CATEGORIES:Church Events
END:VEVENT
END:VCALENDAR