BEGIN:VCALENDAR
VERSION:2.0
PRODID:-//Calvary Episcopal Church - ECPv6.15.20//NONSGML v1.0//EN
CALSCALE:GREGORIAN
METHOD:PUBLISH
X-WR-CALNAME:Calvary Episcopal Church
X-ORIGINAL-URL:https://calvaryashland.org
X-WR-CALDESC:Events for Calvary Episcopal Church
REFRESH-INTERVAL;VALUE=DURATION:PT1H
X-Robots-Tag:noindex
X-PUBLISHED-TTL:PT1H
BEGIN:VTIMEZONE
TZID:America/New_York
BEGIN:DAYLIGHT
TZOFFSETFROM:-0500
TZOFFSETTO:-0400
TZNAME:EDT
DTSTART:20230312T070000
END:DAYLIGHT
BEGIN:STANDARD
TZOFFSETFROM:-0400
TZOFFSETTO:-0500
TZNAME:EST
DTSTART:20231105T060000
END:STANDARD
BEGIN:DAYLIGHT
TZOFFSETFROM:-0500
TZOFFSETTO:-0400
TZNAME:EDT
DTSTART:20240310T070000
END:DAYLIGHT
BEGIN:STANDARD
TZOFFSETFROM:-0400
TZOFFSETTO:-0500
TZNAME:EST
DTSTART:20241103T060000
END:STANDARD
BEGIN:DAYLIGHT
TZOFFSETFROM:-0500
TZOFFSETTO:-0400
TZNAME:EDT
DTSTART:20250309T070000
END:DAYLIGHT
BEGIN:STANDARD
TZOFFSETFROM:-0400
TZOFFSETTO:-0500
TZNAME:EST
DTSTART:20251102T060000
END:STANDARD
END:VTIMEZONE
BEGIN:VEVENT
DTSTART;TZID=America/New_York:20240502T120000
DTEND;TZID=America/New_York:20240502T130000
DTSTAMP:20260422T121030
CREATED:20240202T122418Z
LAST-MODIFIED:20240502T115345Z
UID:10002331-1714651200-1714654800@calvaryashland.org
SUMMARY:AA Meeting
DESCRIPTION:
URL:https://calvaryashland.org/event/aa-meeting-420/
LOCATION:1337 Winchester Ave\, Ashland\, KY 41101\, USA\, Winchester Avenue\, Ashland\, Kentucky\, 41101\, United States
CATEGORIES:Church Events
GEO:38.4801471;-82.6418351
X-APPLE-STRUCTURED-LOCATION;VALUE=URI;X-ADDRESS=1337 Winchester Ave Ashland KY 41101 USA Winchester Avenue Ashland Kentucky 41101 United States;X-APPLE-RADIUS=500;X-TITLE=Winchester Avenue:geo:-82.6418351,38.4801471
END:VEVENT
BEGIN:VEVENT
DTSTART;TZID=America/New_York:20240502T163000
DTEND;TZID=America/New_York:20240502T213000
DTSTAMP:20260422T121030
CREATED:20240410T103842Z
LAST-MODIFIED:20240425T113930Z
UID:10002508-1714667400-1714685400@calvaryashland.org
SUMMARY:John Johnson Band
DESCRIPTION:
URL:https://calvaryashland.org/event/john-johnson-band/
LOCATION:KY
CATEGORIES:Church Events
END:VEVENT
BEGIN:VEVENT
DTSTART;TZID=America/New_York:20240502T180000
DTEND;TZID=America/New_York:20240502T190000
DTSTAMP:20260422T121030
CREATED:20240202T122419Z
LAST-MODIFIED:20240502T115345Z
UID:10002332-1714672800-1714676400@calvaryashland.org
SUMMARY:AA meeting
DESCRIPTION:
URL:https://calvaryashland.org/event/aa-meeting-421/
LOCATION:1337 Winchester Ave\, Ashland\, KY 41101\, USA\, Winchester Avenue\, Ashland\, Kentucky\, 41101\, United States
CATEGORIES:Church Events
GEO:38.4801471;-82.6418351
X-APPLE-STRUCTURED-LOCATION;VALUE=URI;X-ADDRESS=1337 Winchester Ave Ashland KY 41101 USA Winchester Avenue Ashland Kentucky 41101 United States;X-APPLE-RADIUS=500;X-TITLE=Winchester Avenue:geo:-82.6418351,38.4801471
END:VEVENT
END:VCALENDAR