BEGIN:VCALENDAR
VERSION:2.0
PRODID:-//Calvary Episcopal Church - ECPv6.15.20//NONSGML v1.0//EN
CALSCALE:GREGORIAN
METHOD:PUBLISH
X-WR-CALNAME:Calvary Episcopal Church
X-ORIGINAL-URL:https://calvaryashland.org
X-WR-CALDESC:Events for Calvary Episcopal Church
REFRESH-INTERVAL;VALUE=DURATION:PT1H
X-Robots-Tag:noindex
X-PUBLISHED-TTL:PT1H
BEGIN:VTIMEZONE
TZID:America/New_York
BEGIN:DAYLIGHT
TZOFFSETFROM:-0500
TZOFFSETTO:-0400
TZNAME:EDT
DTSTART:20230312T070000
END:DAYLIGHT
BEGIN:STANDARD
TZOFFSETFROM:-0400
TZOFFSETTO:-0500
TZNAME:EST
DTSTART:20231105T060000
END:STANDARD
BEGIN:DAYLIGHT
TZOFFSETFROM:-0500
TZOFFSETTO:-0400
TZNAME:EDT
DTSTART:20240310T070000
END:DAYLIGHT
BEGIN:STANDARD
TZOFFSETFROM:-0400
TZOFFSETTO:-0500
TZNAME:EST
DTSTART:20241103T060000
END:STANDARD
BEGIN:DAYLIGHT
TZOFFSETFROM:-0500
TZOFFSETTO:-0400
TZNAME:EDT
DTSTART:20250309T070000
END:DAYLIGHT
BEGIN:STANDARD
TZOFFSETFROM:-0400
TZOFFSETTO:-0500
TZNAME:EST
DTSTART:20251102T060000
END:STANDARD
END:VTIMEZONE
BEGIN:VEVENT
DTSTART;TZID=America/New_York:20240426T120000
DTEND;TZID=America/New_York:20240426T130000
DTSTAMP:20260422T181435
CREATED:20240127T120944Z
LAST-MODIFIED:20240426T113840Z
UID:10002251-1714132800-1714136400@calvaryashland.org
SUMMARY:AA Meeting
DESCRIPTION:
URL:https://calvaryashland.org/event/aa-meeting-415/
LOCATION:1337 Winchester Ave\, Ashland\, KY 41101\, USA\, Winchester Avenue\, Ashland\, Kentucky\, 41101\, United States
CATEGORIES:Church Events
GEO:38.4801471;-82.6418351
X-APPLE-STRUCTURED-LOCATION;VALUE=URI;X-ADDRESS=1337 Winchester Ave Ashland KY 41101 USA Winchester Avenue Ashland Kentucky 41101 United States;X-APPLE-RADIUS=500;X-TITLE=Winchester Avenue:geo:-82.6418351,38.4801471
END:VEVENT
BEGIN:VEVENT
DTSTART;TZID=America/New_York:20240426T190000
DTEND;TZID=America/New_York:20240426T200000
DTSTAMP:20260422T181435
CREATED:20240222T125353Z
LAST-MODIFIED:20240410T103841Z
UID:10002379-1714158000-1714161600@calvaryashland.org
SUMMARY:GOOD FRIDAY
DESCRIPTION:
URL:https://calvaryashland.org/event/good-friday-2/
LOCATION:KY
CATEGORIES:Church Events
END:VEVENT
END:VCALENDAR