BEGIN:VCALENDAR
VERSION:2.0
PRODID:-//Calvary Episcopal Church - ECPv6.15.20//NONSGML v1.0//EN
CALSCALE:GREGORIAN
METHOD:PUBLISH
X-WR-CALNAME:Calvary Episcopal Church
X-ORIGINAL-URL:https://calvaryashland.org
X-WR-CALDESC:Events for Calvary Episcopal Church
REFRESH-INTERVAL;VALUE=DURATION:PT1H
X-Robots-Tag:noindex
X-PUBLISHED-TTL:PT1H
BEGIN:VTIMEZONE
TZID:America/New_York
BEGIN:DAYLIGHT
TZOFFSETFROM:-0500
TZOFFSETTO:-0400
TZNAME:EDT
DTSTART:20230312T070000
END:DAYLIGHT
BEGIN:STANDARD
TZOFFSETFROM:-0400
TZOFFSETTO:-0500
TZNAME:EST
DTSTART:20231105T060000
END:STANDARD
BEGIN:DAYLIGHT
TZOFFSETFROM:-0500
TZOFFSETTO:-0400
TZNAME:EDT
DTSTART:20240310T070000
END:DAYLIGHT
BEGIN:STANDARD
TZOFFSETFROM:-0400
TZOFFSETTO:-0500
TZNAME:EST
DTSTART:20241103T060000
END:STANDARD
BEGIN:DAYLIGHT
TZOFFSETFROM:-0500
TZOFFSETTO:-0400
TZNAME:EDT
DTSTART:20250309T070000
END:DAYLIGHT
BEGIN:STANDARD
TZOFFSETFROM:-0400
TZOFFSETTO:-0500
TZNAME:EST
DTSTART:20251102T060000
END:STANDARD
END:VTIMEZONE
BEGIN:VEVENT
DTSTART;TZID=America/New_York:20240403T120000
DTEND;TZID=America/New_York:20240403T130000
DTSTAMP:20260422T193714
CREATED:20240104T102555Z
LAST-MODIFIED:20240403T100856Z
UID:10002218-1712145600-1712149200@calvaryashland.org
SUMMARY:AA Meeting
DESCRIPTION:
URL:https://calvaryashland.org/event/aa-meeting-391/
LOCATION:1337 Winchester Ave\, Ashland\, KY 41101\, USA\, Winchester Avenue\, Ashland\, Kentucky\, 41101\, United States
CATEGORIES:Church Events
GEO:38.4801471;-82.6418351
X-APPLE-STRUCTURED-LOCATION;VALUE=URI;X-ADDRESS=1337 Winchester Ave Ashland KY 41101 USA Winchester Avenue Ashland Kentucky 41101 United States;X-APPLE-RADIUS=500;X-TITLE=Winchester Avenue:geo:-82.6418351,38.4801471
END:VEVENT
BEGIN:VEVENT
DTSTART;TZID=America/New_York:20240403T121000
DTEND;TZID=America/New_York:20240403T131000
DTSTAMP:20260422T193714
CREATED:20240104T102555Z
LAST-MODIFIED:20240311T133856Z
UID:10002219-1712146200-1712149800@calvaryashland.org
SUMMARY:Noon Day Service
DESCRIPTION:
URL:https://calvaryashland.org/event/noon-day-service-56/
LOCATION:KY
CATEGORIES:Church Events
END:VEVENT
BEGIN:VEVENT
DTSTART;TZID=America/New_York:20240403T160000
DTEND;TZID=America/New_York:20240403T170000
DTSTAMP:20260422T193714
CREATED:20240314T090844Z
LAST-MODIFIED:20240403T100856Z
UID:10002443-1712160000-1712163600@calvaryashland.org
SUMMARY:Bags of Love
DESCRIPTION:
URL:https://calvaryashland.org/event/bags-of-love-43/
LOCATION:KY
CATEGORIES:Church Events
END:VEVENT
BEGIN:VEVENT
DTSTART;TZID=America/New_York:20240403T170000
DTEND;TZID=America/New_York:20240403T180000
DTSTAMP:20260422T193714
CREATED:20240131T120938Z
LAST-MODIFIED:20240313T090843Z
UID:10002295-1712163600-1712167200@calvaryashland.org
SUMMARY:Bags of Love
DESCRIPTION:
URL:https://calvaryashland.org/event/bags-of-love-31/
LOCATION:KY
CATEGORIES:Church Events
END:VEVENT
BEGIN:VEVENT
DTSTART;TZID=America/New_York:20240403T190000
DTEND;TZID=America/New_York:20240403T200000
DTSTAMP:20260422T193714
CREATED:20240131T120938Z
LAST-MODIFIED:20240403T100856Z
UID:10002296-1712170800-1712174400@calvaryashland.org
SUMMARY:Choir Practice
DESCRIPTION:
URL:https://calvaryashland.org/event/choir-practice-30/
LOCATION:KY
CATEGORIES:Church Events
END:VEVENT
END:VCALENDAR