BEGIN:VCALENDAR
VERSION:2.0
PRODID:-//Calvary Episcopal Church - ECPv6.15.20//NONSGML v1.0//EN
CALSCALE:GREGORIAN
METHOD:PUBLISH
X-ORIGINAL-URL:https://calvaryashland.org
X-WR-CALDESC:Events for Calvary Episcopal Church
REFRESH-INTERVAL;VALUE=DURATION:PT1H
X-Robots-Tag:noindex
X-PUBLISHED-TTL:PT1H
BEGIN:VTIMEZONE
TZID:America/New_York
BEGIN:DAYLIGHT
TZOFFSETFROM:-0500
TZOFFSETTO:-0400
TZNAME:EDT
DTSTART:20230312T070000
END:DAYLIGHT
BEGIN:STANDARD
TZOFFSETFROM:-0400
TZOFFSETTO:-0500
TZNAME:EST
DTSTART:20231105T060000
END:STANDARD
BEGIN:DAYLIGHT
TZOFFSETFROM:-0500
TZOFFSETTO:-0400
TZNAME:EDT
DTSTART:20240310T070000
END:DAYLIGHT
BEGIN:STANDARD
TZOFFSETFROM:-0400
TZOFFSETTO:-0500
TZNAME:EST
DTSTART:20241103T060000
END:STANDARD
BEGIN:DAYLIGHT
TZOFFSETFROM:-0500
TZOFFSETTO:-0400
TZNAME:EDT
DTSTART:20250309T070000
END:DAYLIGHT
BEGIN:STANDARD
TZOFFSETFROM:-0400
TZOFFSETTO:-0500
TZNAME:EST
DTSTART:20251102T060000
END:STANDARD
END:VTIMEZONE
BEGIN:VEVENT
DTSTART;TZID=America/New_York:20240328T120000
DTEND;TZID=America/New_York:20240328T130000
DTSTAMP:20260423T081545
CREATED:20231229T093859Z
LAST-MODIFIED:20240328T093842Z
UID:10002211-1711627200-1711630800@calvaryashland.org
SUMMARY:AA Meeting
DESCRIPTION:
URL:https://calvaryashland.org/event/aa-meeting-385/
LOCATION:1337 Winchester Ave\, Ashland\, KY 41101\, USA\, Winchester Avenue\, Ashland\, Kentucky\, 41101\, United States
CATEGORIES:Church Events
GEO:38.4801471;-82.6418351
X-APPLE-STRUCTURED-LOCATION;VALUE=URI;X-ADDRESS=1337 Winchester Ave Ashland KY 41101 USA Winchester Avenue Ashland Kentucky 41101 United States;X-APPLE-RADIUS=500;X-TITLE=Winchester Avenue:geo:-82.6418351,38.4801471
END:VEVENT
BEGIN:VEVENT
DTSTART;TZID=America/New_York:20240328T180000
DTEND;TZID=America/New_York:20240328T190000
DTSTAMP:20260423T081545
CREATED:20231229T093900Z
LAST-MODIFIED:20240328T093842Z
UID:10002212-1711648800-1711652400@calvaryashland.org
SUMMARY:AA meeting
DESCRIPTION:
URL:https://calvaryashland.org/event/aa-meeting-386/
LOCATION:1337 Winchester Ave\, Ashland\, KY 41101\, USA\, Winchester Avenue\, Ashland\, Kentucky\, 41101\, United States
CATEGORIES:Church Events
GEO:38.4801471;-82.6418351
X-APPLE-STRUCTURED-LOCATION;VALUE=URI;X-ADDRESS=1337 Winchester Ave Ashland KY 41101 USA Winchester Avenue Ashland Kentucky 41101 United States;X-APPLE-RADIUS=500;X-TITLE=Winchester Avenue:geo:-82.6418351,38.4801471
END:VEVENT
BEGIN:VEVENT
DTSTART;TZID=America/New_York:20240328T190000
DTEND;TZID=America/New_York:20240328T200000
DTSTAMP:20260423T081545
CREATED:20240308T132628Z
LAST-MODIFIED:20240328T093842Z
UID:10002415-1711652400-1711656000@calvaryashland.org
SUMMARY:Maundy Thursday Service
DESCRIPTION:
URL:https://calvaryashland.org/event/maundy-thursday-service/
LOCATION:KY
CATEGORIES:Church Events
END:VEVENT
END:VCALENDAR