BEGIN:VCALENDAR
VERSION:2.0
PRODID:-//Calvary Episcopal Church - ECPv6.15.20//NONSGML v1.0//EN
CALSCALE:GREGORIAN
METHOD:PUBLISH
X-WR-CALNAME:Calvary Episcopal Church
X-ORIGINAL-URL:https://calvaryashland.org
X-WR-CALDESC:Events for Calvary Episcopal Church
REFRESH-INTERVAL;VALUE=DURATION:PT1H
X-Robots-Tag:noindex
X-PUBLISHED-TTL:PT1H
BEGIN:VTIMEZONE
TZID:America/New_York
BEGIN:DAYLIGHT
TZOFFSETFROM:-0500
TZOFFSETTO:-0400
TZNAME:EDT
DTSTART:20230312T070000
END:DAYLIGHT
BEGIN:STANDARD
TZOFFSETFROM:-0400
TZOFFSETTO:-0500
TZNAME:EST
DTSTART:20231105T060000
END:STANDARD
BEGIN:DAYLIGHT
TZOFFSETFROM:-0500
TZOFFSETTO:-0400
TZNAME:EDT
DTSTART:20240310T070000
END:DAYLIGHT
BEGIN:STANDARD
TZOFFSETFROM:-0400
TZOFFSETTO:-0500
TZNAME:EST
DTSTART:20241103T060000
END:STANDARD
BEGIN:DAYLIGHT
TZOFFSETFROM:-0500
TZOFFSETTO:-0400
TZNAME:EDT
DTSTART:20250309T070000
END:DAYLIGHT
BEGIN:STANDARD
TZOFFSETFROM:-0400
TZOFFSETTO:-0500
TZNAME:EST
DTSTART:20251102T060000
END:STANDARD
END:VTIMEZONE
BEGIN:VEVENT
DTSTART;TZID=America/New_York:20240324T080000
DTEND;TZID=America/New_York:20240324T090000
DTSTAMP:20260424T102708
CREATED:20240131T120936Z
LAST-MODIFIED:20240324T093846Z
UID:10002287-1711267200-1711270800@calvaryashland.org
SUMMARY:Rite 1 Service
DESCRIPTION:
URL:https://calvaryashland.org/event/rite-1-service-6/
CATEGORIES:Church Events
END:VEVENT
BEGIN:VEVENT
DTSTART;TZID=America/New_York:20240324T090000
DTEND;TZID=America/New_York:20240324T100000
DTSTAMP:20260424T102708
CREATED:20231225T093905Z
LAST-MODIFIED:20240221T125345Z
UID:10002204-1711270800-1711274400@calvaryashland.org
SUMMARY:Bible Study With Liz Alexander
DESCRIPTION:
URL:https://calvaryashland.org/event/bible-study-with-liz-alexander-55/
CATEGORIES:Church Events
END:VEVENT
BEGIN:VEVENT
DTSTART;TZID=America/New_York:20240324T091500
DTEND;TZID=America/New_York:20240324T094500
DTSTAMP:20260424T102708
CREATED:20240131T120936Z
LAST-MODIFIED:20240131T120951Z
UID:10002288-1711271700-1711273500@calvaryashland.org
SUMMARY:Episcopal 101 with Father Jon
DESCRIPTION:
URL:https://calvaryashland.org/event/episcopal-101-with-father-jon-6/
CATEGORIES:Church Events
END:VEVENT
BEGIN:VEVENT
DTSTART;TZID=America/New_York:20240324T100000
DTEND;TZID=America/New_York:20240324T110000
DTSTAMP:20260424T102708
CREATED:20231225T093905Z
LAST-MODIFIED:20240324T093847Z
UID:10002205-1711274400-1711278000@calvaryashland.org
SUMMARY:Palm Sunday Holy Eucharist
DESCRIPTION:
URL:https://calvaryashland.org/event/holy-eucharist-10/
CATEGORIES:Church Events
END:VEVENT
BEGIN:VEVENT
DTSTART;TZID=America/New_York:20240324T111500
DTEND;TZID=America/New_York:20240324T121500
DTSTAMP:20260424T102708
CREATED:20240131T120936Z
LAST-MODIFIED:20240324T093847Z
UID:10002289-1711278900-1711282500@calvaryashland.org
SUMMARY:Coffee Hour
DESCRIPTION:
URL:https://calvaryashland.org/event/coffee-hour-8/
CATEGORIES:Church Events
END:VEVENT
END:VCALENDAR